BEGIN:VCALENDAR
VERSION:2.0
METHOD:PUBLISH
BEGIN:VEVENT
DTSTART:20200226T170000
DTEND:20200226T173000
LOCATION:11 Croxley Street Upper Mount Gravatt, QLD 4122
TRANSP: OPAQUE
SEQUENCE:0
UID:
DTSTAMP:20200225T230622Z
SUMMARY:開放參觀 - 布里斯班炙手可熱的學區房
DESCRIPTION:這棟房屋有一些與眾不同的地方。 實際上，它的很多特點不僅使它引人注目，而且確保它成為適合家庭居住的美好而安全的家。

讓我們從屋前說起。 具有特色的水泥牆和鍛鐵圍欄給人賞心悅目的感覺，而且還提供了額外的安全保護。 車道上的大門可確保您的車輛安全，此外還有一個雙遙控門車庫。

房屋外牆刷上了灰泥覆蓋層，與屋頂的赤色陶瓦片相得益彰。 低維護的草坪和花壇經過精心保養且鬱鬱蔥蔥。 舖滿地轉的小路一直通往前門廊的堅固磚質台階。

進入房屋後，房屋的建造質量無疑是首屈一指的。 深色的木地板營造出溫暖而溫馨的感覺，與中性色調的牆壁和天花板完美融合。 大多數窗戶上的Crimsafe防盜網增強了安全性。

設計周到的平面佈局，自然流暢，包括三間臥室和兩間浴室。 裝有分體式空調的寬敞客廳無疑是家庭的社交中心，打開滑動玻璃門可以來到後院。

廚房配有大量的操作台面和櫥櫃空間，電磁爐，抽油煙機和洗碗機。 喜歡休閒娛樂的人會喜歡這裡獨立的酒架和單獨的餐廳。

三間臥室佈局合理，舒適寬敞。其中兩間臥室共享一間帶淋浴，浴缸和馬桶的主浴室。 主臥室配有分體式空調，步入式衣帽間和夢寐以求的大型衛浴套房。 衛浴套房配有雙洗手台，大型水療浴缸，滿牆的瓷磚和玻璃牆淋浴。 這是真正的傑作。

一個鋪砌完好的大型後院私密地坐落在一堵高牆後面，提供了娛樂、休閒和玩耍的空間。 這裡有花壇，水景，甚至還有雕像。 獨立的帶頂棚的兩層露台是一個獨特之處，它提供了一個完美的戶外用餐場所。 太陽能板和雨水箱也可以減少您的碳足跡。

在 Upper Mt Gravatt區的中心，Croxley街11號驕傲地位於Mansfield公立中學和Wishart公立小學的學區。 您還可以：

- 步行至Westfield Garden City購物中心;

- 3分鐘步行至Lumley 街上的本土商店;

- 步行幾分鐘至聖凱瑟琳私立小學;

- 靠近其他優質學校，包括布里斯班基督復臨學校;

- 輕鬆前往Pacific和Gateway高速公路;

- 步行至Brush Box公園;

- 距離布里斯班市中心只有15分鐘車程。

擁有眾多優點的家庭住宅，地理位置如此優越，附近還有如此優質的學校，不會停留太長時間。請馬上與Henry Wong 團隊聯繫。

&nbsp;

教育：

 	屬於Wishart 公立小學和Mansfield公立中學的學區
 	短途步行至Wishart 公立小學
 	短途驅車至Mansfield公立中學
 	靠近其他優質學校，包括布里斯班基督復臨學校，聖凱瑟琳私立小學和Citipointe基督學校

交通及購物中心：

 	短途步行至Wemvern街上的公交車站，搭乘公交車 (184) 前往Garden City購物中心和布里斯班市中心
 	3分鐘步行至Lumley 街上的本土商店，有咖啡店，按摩店，牙醫等
 	短途步行至Wishart Square和Civic Fair購物中心
 	步行可至The Village 購物中心，Palmdale購物中心和Westfield Garden City購物中心
 	距離布里斯班市中心只有15分鐘車程
 	輕鬆前往Pacific和Gateway高速公路

設施：

 	短途步行至Brush Box公園，內有燒烤區，野餐區和兒童遊樂場
 	短途驅車至Mount Gravatt展覽廣場，那裡每週日都有集市

&nbsp;

備註：為了給市場提供展示和/或潛在性的參考，此住宅的部分房間均經過虛擬家具裝飾。

&nbsp;

聲明：

這個房產會進行拍賣，因此無法提供參考價格。此網站為了其功能性的目的可能將此房產過濾為一個價格範圍。

&nbsp;

[button size='' style='' text='ENGLISH' icon='' icon_color='' link='https://www.henrywong.com.au/property/11-croxley-st/' target='blank' color='#ffffff' hover_color='#000000' border_color='#DC1C2E' hover_border_color='#000000' background_color='#DC1C2E' hover_background_color='#ffffff' font_style='normal' font_weight='700' text_align='center' margin='']

&nbsp;

下載：

[button size='' style='' text='空白合同' icon='' icon_color='' link='/wp-content/uploads/2020/01/11-Croxley-St-Upper-Mount-Gravatt-blank-contract.pdf' target='blank' color='#ffffff' hover_color='#000000' border_color='#000000' hover_border_color='#000000' background_color='#000000' hover_background_color='#ffffff' font_style='normal' font_weight='700' text_align='center' margin=''] [button size='' style='' text='房產宣傳冊' icon='' icon_color='' link='/wp-content/uploads/2020/01/Brochure-11-Croxley-St-Upper-Mt-Gravatt.pdf' target='blank' color='#ffffff' hover_color='#000000' border_color='#4D4D4D' hover_border_color='#4D4D4D' background_color='#4D4D4D' hover_background_color='#ffffff' font_style='normal' font_weight='700' text_align='center' margin='']

&nbsp;
房產視頻
[vc_video link='https://youtu.be/n7miqIoFo2U']

PRIORITY:1
CLASS:PUBLIC
BEGIN:VALARM
TRIGGER:-PT10080M
ACTION:DISPLAY
DESCRIPTION:Reminder
END:VALARM
END:VEVENT
END:VCALENDAR
